BEGIN:VCALENDAR
VERSION:2.0
PRODID:icalendar-ruby
CALSCALE:GREGORIAN
METHOD:PUBLISH
BEGIN:VEVENT
DTSTAMP:20260425T180417Z
UID:41-537464@firstbaptistpoplarville.church
DTSTART:20261104T233000Z
DTEND:20261105T020000Z
CLASS:PUBLIC
CREATED:20260425T122458
DESCRIPTION:
LAST-MODIFIED:20260425T122458
LOCATION:The NET
SUMMARY:STUDENT MINISTRY 
URL;VALUE=URI:https://www.firstbaptistpoplarville.church/events/student-min
 istry/2026-11-04
END:VEVENT
END:VCALENDAR
