BEGIN:VCALENDAR
VERSION:2.0
PRODID:icalendar-ruby
CALSCALE:GREGORIAN
METHOD:PUBLISH
BEGIN:VEVENT
DTSTAMP:20260425T164256Z
UID:41-536917@firstbaptistpoplarville.church
DTSTART:20261028T223000Z
DTEND:20261029T010000Z
CLASS:PUBLIC
CREATED:20260425T094455
DESCRIPTION:
LAST-MODIFIED:20260425T094455
LOCATION:The NET
SUMMARY:STUDENT MINISTRY 
URL;VALUE=URI:https://www.firstbaptistpoplarville.church/events/student-min
 istry/2026-10-28
END:VEVENT
END:VCALENDAR
