BEGIN:VCALENDAR
VERSION:2.0
PRODID:icalendar-ruby
CALSCALE:GREGORIAN
METHOD:PUBLISH
BEGIN:VEVENT
DTSTAMP:20260425T134800Z
UID:41-536369@firstbaptistpoplarville.church
DTSTART:20261014T223000Z
DTEND:20261015T010000Z
CLASS:PUBLIC
CREATED:20260425T070347
DESCRIPTION:
LAST-MODIFIED:20260425T070347
LOCATION:The NET
SUMMARY:STUDENT MINISTRY 
URL;VALUE=URI:https://www.firstbaptistpoplarville.church/events/student-min
 istry/2026-10-14
END:VEVENT
END:VCALENDAR
