BEGIN:VCALENDAR
VERSION:2.0
PRODID:icalendar-ruby
CALSCALE:GREGORIAN
METHOD:PUBLISH
BEGIN:VEVENT
DTSTAMP:20260424T221134Z
UID:41-534721@firstbaptistpoplarville.church
DTSTART:20260805T223000Z
DTEND:20260806T010000Z
CLASS:PUBLIC
CREATED:20260424T154145
DESCRIPTION:
LAST-MODIFIED:20260424T154145
LOCATION:The NET
SUMMARY:STUDENT MINISTRY 
URL;VALUE=URI:https://www.firstbaptistpoplarville.church/events/student-min
 istry/2026-08-05
END:VEVENT
END:VCALENDAR
