BEGIN:VCALENDAR
VERSION:2.0
PRODID:icalendar-ruby
CALSCALE:GREGORIAN
METHOD:PUBLISH
BEGIN:VEVENT
DTSTAMP:20260425T205200Z
UID:49-538398@firstbaptistpoplarville.church
DTSTART:20261101T150000Z
DTEND:20261101T155000Z
CLASS:PUBLIC
CREATED:20260425T150628
DESCRIPTION:click "small group bible studies" below to find your class.
LAST-MODIFIED:20260425T150628
LOCATION:MAIN CAMPUS 
SUMMARY:SMALL GROUP BIBLE STUDY 
URL;VALUE=URI:https://www.firstbaptistpoplarville.church/events/small-group
 -bible-study/2026-11-01
ATTACH;FILENAME=tempImageunzvTf.jpg;FMTTYPE=image/jpeg:https://dq5pwpg1q8ru
 0.cloudfront.net/2025/09/15/18/07/43/7304cfd6-57aa-40d6-823b-115c58f8410f/
 tempImageunzvTf.jpg
END:VEVENT
END:VCALENDAR
