BEGIN:VCALENDAR
VERSION:2.0
PRODID:icalendar-ruby
CALSCALE:GREGORIAN
METHOD:PUBLISH
BEGIN:VEVENT
DTSTAMP:20260423T212506Z
UID:46-531677@firstbaptistpoplarville.church
DTSTART:20261104T224500Z
DTEND:20261104T234500Z
CLASS:PUBLIC
CREATED:20260423T155856
DESCRIPTION:COME JOIN US FOR A MEAL AND FELLOWSHIP 
LAST-MODIFIED:20260423T155856
LOCATION:The NET CAFE'
SUMMARY:FAMILY MEAL 
URL;VALUE=URI:https://www.firstbaptistpoplarville.church/events/family-meal
 /2026-11-04
END:VEVENT
END:VCALENDAR
