BEGIN:VCALENDAR
VERSION:2.0
PRODID:icalendar-ruby
CALSCALE:GREGORIAN
METHOD:PUBLISH
BEGIN:VEVENT
DTSTAMP:20260423T175923Z
UID:46-530583@firstbaptistpoplarville.church
DTSTART:20261021T214500Z
DTEND:20261021T224500Z
CLASS:PUBLIC
CREATED:20260423T100720
DESCRIPTION:COME JOIN US FOR A MEAL AND FELLOWSHIP 
LAST-MODIFIED:20260423T100720
LOCATION:The NET CAFE'
SUMMARY:FAMILY MEAL 
URL;VALUE=URI:https://www.firstbaptistpoplarville.church/events/family-meal
 /2026-10-21
END:VEVENT
END:VCALENDAR
