BEGIN:VCALENDAR
VERSION:2.0
PRODID:icalendar-ruby
CALSCALE:GREGORIAN
METHOD:PUBLISH
BEGIN:VEVENT
DTSTAMP:20260423T125839Z
UID:46-530034@firstbaptistpoplarville.church
DTSTART:20260930T214500Z
DTEND:20260930T224500Z
CLASS:PUBLIC
CREATED:20260423T071438
DESCRIPTION:COME JOIN US FOR A MEAL AND FELLOWSHIP 
LAST-MODIFIED:20260423T071438
LOCATION:The NET CAFE'
SUMMARY:FAMILY MEAL 
URL;VALUE=URI:https://www.firstbaptistpoplarville.church/events/family-meal
 /2026-09-30
END:VEVENT
END:VCALENDAR
