BEGIN:VCALENDAR
VERSION:2.0
PRODID:icalendar-ruby
CALSCALE:GREGORIAN
METHOD:PUBLISH
BEGIN:VEVENT
DTSTAMP:20260423T032031Z
UID:46-529482@firstbaptistpoplarville.church
DTSTART:20260819T214500Z
DTEND:20260819T224500Z
CLASS:PUBLIC
CREATED:20260422T214420
DESCRIPTION:COME JOIN US FOR A MEAL AND FELLOWSHIP 
LAST-MODIFIED:20260422T214420
LOCATION:The NET CAFE'
SUMMARY:FAMILY MEAL 
URL;VALUE=URI:https://www.firstbaptistpoplarville.church/events/family-meal
 /2026-08-19
END:VEVENT
END:VCALENDAR
