BEGIN:VCALENDAR
VERSION:2.0
PRODID:icalendar-ruby
CALSCALE:GREGORIAN
METHOD:PUBLISH
BEGIN:VEVENT
DTSTAMP:20260423T012615Z
UID:46-528935@firstbaptistpoplarville.church
DTSTART:20260812T214500Z
DTEND:20260812T224500Z
CLASS:PUBLIC
CREATED:20260422T185028
DESCRIPTION:COME JOIN US FOR A MEAL AND FELLOWSHIP 
LAST-MODIFIED:20260422T185028
LOCATION:The NET CAFE'
SUMMARY:FAMILY MEAL 
URL;VALUE=URI:https://www.firstbaptistpoplarville.church/events/family-meal
 /2026-08-12
END:VEVENT
END:VCALENDAR
