BEGIN:VCALENDAR
VERSION:2.0
PRODID:icalendar-ruby
CALSCALE:GREGORIAN
METHOD:PUBLISH
BEGIN:VEVENT
DTSTAMP:20260422T215510Z
UID:46-528391@firstbaptistpoplarville.church
DTSTART:20260729T214500Z
DTEND:20260729T224500Z
CLASS:PUBLIC
CREATED:20260422T155841
DESCRIPTION:COME JOIN US FOR A MEAL AND FELLOWSHIP 
LAST-MODIFIED:20260422T155841
LOCATION:The NET CAFE'
SUMMARY:FAMILY MEAL 
URL;VALUE=URI:https://www.firstbaptistpoplarville.church/events/family-meal
 /2026-07-29
END:VEVENT
END:VCALENDAR
