BEGIN:VCALENDAR
VERSION:2.0
PRODID:icalendar-ruby
CALSCALE:GREGORIAN
METHOD:PUBLISH
BEGIN:VEVENT
DTSTAMP:20260421T113606Z
UID:47-523048@firstbaptistpoplarville.church
DTSTART:20261101T140000Z
DTEND:20261101T145000Z
CLASS:PUBLIC
CREATED:20260420T195259
DESCRIPTION:Join us at our 8AM Service at The NET for an intimate Worship e
 xperience.
LAST-MODIFIED:20260420T195259
LOCATION:The NET
SUMMARY:CHURCH AT THE NET
URL;VALUE=URI:https://www.firstbaptistpoplarville.church/events/church-at-t
 he-net--47/2026-11-01
END:VEVENT
END:VCALENDAR
