BEGIN:VCALENDAR
VERSION:2.0
PRODID:icalendar-ruby
CALSCALE:GREGORIAN
METHOD:PUBLISH
BEGIN:VEVENT
DTSTAMP:20260423T122005Z
UID:48-530152@firstbaptistpoplarville.church
DTSTART:20261101T160000Z
DTEND:20261101T170000Z
CLASS:PUBLIC
CREATED:20260423T071438
DESCRIPTION:Join us for Worship at our Main Campus!
LAST-MODIFIED:20260423T071438
LOCATION:SANCTUARY 
SUMMARY:CHURCH AT MAIN CAMPUS 
URL;VALUE=URI:https://www.firstbaptistpoplarville.church/events/church-at-m
 ain-campus/2026-11-01
END:VEVENT
END:VCALENDAR
