BEGIN:VCALENDAR
VERSION:2.0
PRODID:icalendar-ruby
CALSCALE:GREGORIAN
METHOD:PUBLISH
BEGIN:VEVENT
DTSTAMP:20260423T031410Z
UID:48-529601@firstbaptistpoplarville.church
DTSTART:20260927T150000Z
DTEND:20260927T160000Z
CLASS:PUBLIC
CREATED:20260422T214420
DESCRIPTION:Join us for Worship at our Main Campus!
LAST-MODIFIED:20260422T214420
LOCATION:SANCTUARY 
SUMMARY:CHURCH AT MAIN CAMPUS 
URL;VALUE=URI:https://www.firstbaptistpoplarville.church/events/church-at-m
 ain-campus/2026-09-27
END:VEVENT
END:VCALENDAR
